BEGIN:VCALENDAR
VERSION:2.0
PRODID:-//The Historic Shuler Theater - ECPv6.15.20//NONSGML v1.0//EN
CALSCALE:GREGORIAN
METHOD:PUBLISH
X-WR-CALNAME:The Historic Shuler Theater
X-ORIGINAL-URL:https://shulertheater.com
X-WR-CALDESC:Events for The Historic Shuler Theater
REFRESH-INTERVAL;VALUE=DURATION:PT1H
X-Robots-Tag:noindex
X-PUBLISHED-TTL:PT1H
BEGIN:VTIMEZONE
TZID:America/Denver
BEGIN:DAYLIGHT
TZOFFSETFROM:-0700
TZOFFSETTO:-0600
TZNAME:MDT
DTSTART:20230312T090000
END:DAYLIGHT
BEGIN:STANDARD
TZOFFSETFROM:-0600
TZOFFSETTO:-0700
TZNAME:MST
DTSTART:20231105T080000
END:STANDARD
BEGIN:DAYLIGHT
TZOFFSETFROM:-0700
TZOFFSETTO:-0600
TZNAME:MDT
DTSTART:20240310T090000
END:DAYLIGHT
BEGIN:STANDARD
TZOFFSETFROM:-0600
TZOFFSETTO:-0700
TZNAME:MST
DTSTART:20241103T080000
END:STANDARD
BEGIN:DAYLIGHT
TZOFFSETFROM:-0700
TZOFFSETTO:-0600
TZNAME:MDT
DTSTART:20250309T090000
END:DAYLIGHT
BEGIN:STANDARD
TZOFFSETFROM:-0600
TZOFFSETTO:-0700
TZNAME:MST
DTSTART:20251102T080000
END:STANDARD
BEGIN:DAYLIGHT
TZOFFSETFROM:-0700
TZOFFSETTO:-0600
TZNAME:MDT
DTSTART:20260308T090000
END:DAYLIGHT
BEGIN:STANDARD
TZOFFSETFROM:-0600
TZOFFSETTO:-0700
TZNAME:MST
DTSTART:20261101T080000
END:STANDARD
BEGIN:DAYLIGHT
TZOFFSETFROM:-0700
TZOFFSETTO:-0600
TZNAME:MDT
DTSTART:20270314T090000
END:DAYLIGHT
BEGIN:STANDARD
TZOFFSETFROM:-0600
TZOFFSETTO:-0700
TZNAME:MST
DTSTART:20271107T080000
END:STANDARD
END:VTIMEZONE
BEGIN:VEVENT
DTSTART;TZID=America/Denver:20260414T190000
DTEND;TZID=America/Denver:20260414T210000
DTSTAMP:20260423T033211
CREATED:20260409T015137Z
LAST-MODIFIED:20260409T211501Z
UID:1528-1776193200-1776200400@shulertheater.com
SUMMARY:The Historic Shuler Theater Welcomes The Cimarron Ram Band
DESCRIPTION:  \n  \n 
URL:https://shulertheater.com/event/the-historic-shuler-theater-welcomes-the-cimarron-ram-band/
LOCATION:The Historic Shuler Theater\, 131 N 2nd St\, Raton\, NM\, 87740
CATEGORIES:Special Shuler event
END:VEVENT
BEGIN:VEVENT
DTSTART;TZID=America/Denver:20260221T190000
DTEND;TZID=America/Denver:20260221T220000
DTSTAMP:20260423T033211
CREATED:20260120T001314Z
LAST-MODIFIED:20260120T001407Z
UID:1519-1771700400-1771711200@shulertheater.com
SUMMARY:Brenda Ortega in Concert @ The Historic Shuler Theater
DESCRIPTION:
URL:https://shulertheater.com/event/brenda-ortega-in-concert-the-historic-shuler-theater/
LOCATION:The Historic Shuler Theater\, 131 N 2nd St\, Raton\, NM\, 87740
CATEGORIES:Special Shuler event
END:VEVENT
BEGIN:VEVENT
DTSTART;TZID=America/Denver:20260130T190000
DTEND;TZID=America/Denver:20260130T220000
DTSTAMP:20260423T033211
CREATED:20260109T031153Z
LAST-MODIFIED:20260112T212109Z
UID:1513-1769799600-1769810400@shulertheater.com
SUMMARY:Adam Swanson in Concert at The Historic Shuler Theater
DESCRIPTION:ADAM SWANSON\nThe only 4-time Old-Time Piano Playing Contest World Champion! \nWorld-class pianist/historian of vintage American popular music\, Ragtime\, Early Jazz\, the Great American Songbook\, and more!!! \nIn concert \nFriday\, January 30\, 2026 @ 7 pm. \nFREE ADMISSION \n$10 SUGGESTED DONATION (OR MORE) FOR SHULER RESTORATION \nPRESENTED BY THE DARDEN FOUNDATION \n\nAdam Swanson is one of the world’s foremost pianists and historians of vintage American popular music\, including ragtime\, early jazz\, the Great American Songbook\, and more. Adam has been a featured performer and lecturer at ragtime and jazz festivals across the United States and abroad\, and he is the only four-time winner of the World Championship Old-Time Piano Playing Contest. He made his New York debut in Carnegie Hall at the age of nineteen\, where he performed with Michael Feinstein. Adam appeared alongside pianist John Arpin at the Bohem Ragtime and Jazz Festival in the Republic of Hungary\, and he has also toured France\, Switzerland\, and Australia. Adam has accompanied silent films at the prestigious Cinecon Classic Film Festival in Hollywood and performed privately for Oscar-winning Disney/Hollywood composer Richard M. Sherman (Mary Poppins\, etc.). At the age of twenty-one\, Adam performed a solo concert at the Kennedy Center Millennium Stage in Washington\, D.C. \nAdam holds a bachelor’s degree in classical piano and a master’s in musicology from the Peabody Conservatory of Johns Hopkins University. He has been mentored by other ragtime artists including the famed Max Morath and legendary 1950s recording artist Johnny Maddox\, who was one of Adam’s greatest influences. Adam has recorded albums with noted musicians such as former rock star Ian Whitcomb\, the Peacherine Ragtime Society Orchestra\, and the Bar D Wranglers. In 2025\, he was selected as “Artist in Residence” for the Scott Joplin International Ragtime Foundation in Sedalia\, MO. Adam’s recordings have been used on the CBC TV show Murdoch Mysteries. He lives in Durango\, Colorado\, where he frequently performs in the Diamond Belle Saloon at the Historic Strater Hotel. Adam is also the director of the Durango Ragtime and Early Jazz Festival. Listen to Adam’s livestream virtual concerts on his Facebook page and YouTube channel.\n\nOne Week (Joseph M. Schenck Productions\, 1920)\nStarring Buster Keaton and Sybil Seely\n\nIn one of Keaton’s best short films\, he and his new bride attempt to build a house from a numbered kit\, while a former rival threatens to ruin their new home. Two reels of side-splitting fun arising from the trials of honeymooners… One Week is such a spectacular short subject that is was added to the Library of Congress’s National Film Registry in 2008.\n 
URL:https://shulertheater.com/event/adam-swanson-in-concert-at-the-historic-shuler-theater/
LOCATION:The Historic Shuler Theater\, 131 N 2nd St\, Raton\, NM\, 87740
CATEGORIES:Special Shuler event
END:VEVENT
BEGIN:VEVENT
DTSTART;VALUE=DATE:20251218
DTEND;VALUE=DATE:20251222
DTSTAMP:20260423T033211
CREATED:20251027T232416Z
LAST-MODIFIED:20251027T232715Z
UID:1499-1766016000-1766361599@shulertheater.com
SUMMARY:“A Christmas Carol” at The Historic Shuler Theater
DESCRIPTION:A Raton holiday tradition!\nThursday-Saturday\, December 18-20 at 7pm;       Sunday\, December 21 at 2pm \n \n 
URL:https://shulertheater.com/event/a-christmas-carol-at-the-historic-shuler-theater/
LOCATION:The Historic Shuler Theater\, 131 N 2nd St\, Raton\, NM\, 87740
CATEGORIES:Special Shuler event
END:VEVENT
BEGIN:VEVENT
DTSTART;TZID=America/Denver:20250919T190000
DTEND;TZID=America/Denver:20250919T220000
DTSTAMP:20260423T033211
CREATED:20250714T220034Z
LAST-MODIFIED:20250913T010735Z
UID:1396-1758308400-1758319200@shulertheater.com
SUMMARY:“Yesterday - Live” at The Historic Shuler Theatre
DESCRIPTION:“Yesterday – A Tribute to the Beatles” has been endorsed by Sir Paul McCartney and has been performing the Beatles since 2000 and the show is coming to the Shuler Theater in Raton on Friday\, September 19 for a 7 pm show sponsored by the Shuler Restoration and the Whited Foundation. Tickets available online at EventBrite – link below. \nYesterday has been featured in Rolling Stone Magazine\, Showbiz Magazine\, on NBC\, CBS\, and ABC\, Dick Clark’s “Your Big Break” Ed McMahon’s “Star Search” and recently returned as highlight of the annual Joe Johnson’s Beatles Cruise aboard the Royal Caribbean Cruise lines. \nFounded by Don Bellezzo\, they show has not only toured extensively in the U.S.\, but internationally\, with seven tours of Japan\, dozens more to Canada\, the Philippines\, Hong Kong\, Bahamas\, and United States military bases and throughout the World\, having performed on five continents. \nInvited by the U.S. Postal Service to entertain at the unveiling of the “Yellow Submarine” Postage Stamp\, Yesterday performed at the prestigious Smithsonian Institute\, Washington\, D.C. \nJoining forces with Yesterday Productions\, ‘The British Are Coming!’ production was developed in the summer of 2010. Depicting the Beatles “Live” US performances\, The British Are Coming! performed for 3 years to nightly standing room only audiences by Yesterday’s show bands in Atlantic City at The Tropicana Hotel’s “Liverpool Club”\,  \n‘The British Are Coming!’ has had long term runs in Lake Tahoe\, Nevada at The Horizon Resort Casino’s Golden Cabaret Theater\, Reno’s Harrah’s Hotel and Casino and other nationwide venues. \nThe resident Beatles Show Band for “Legends in Concert\,” the world’s premier and longest running tribute show\, Yesterday performs in Las Vegas\, Nevada and Branson\, Missouri.  \nTickets for the Shuler show are $20 general admission and are available online at EventBrite or by calling 575-447-2207.
URL:https://shulertheater.com/event/yesterday-live-at-the-historic-shuler-theatre/
LOCATION:New Mexico
CATEGORIES:Special Shuler event
END:VEVENT
BEGIN:VEVENT
DTSTART;TZID=America/Denver:20250904T190000
DTEND;TZID=America/Denver:20250904T220000
DTSTAMP:20260423T033211
CREATED:20250822T221718Z
LAST-MODIFIED:20250823T002600Z
UID:1443-1757012400-1757023200@shulertheater.com
SUMMARY:Michael Martin Murphey in Concert at The Historic Shuler Theatre
DESCRIPTION:Join us at the The Shuler Theater on Thursday\, September 4th as Michael Martin Murphey takes the stage to celebrate a monumental milestone in his career—the 50th anniversary of his classic million-selling Pop-Country song\, “Wildfire”. \nJoining Michael will be Raton’s own Karla K Morton as they share some songs and poems from their recent collaborative work Santa Fe Trail: Chasing the Big West.   \n\nThe worldwide success of  “Wildfire”  and his 4th album “Blue Sky Night Thunder”  led Michael Martin Murphey on a journey as a singer-songwriter through multiple genres of music – pop\, country\, western\, bluegrass\, folk and jazz.  The Wildfire Anniversary concert will feature other selections from Blue Sky Night Thunder such as “Carolina in the Pines”  and “Desert Rat” and will also include songs from award-winning albums COWBOY SONGS (“Cowboy Logic”)\,  MICHAEL MARTIN MURPHEY (“What’s Forever For”) and  BUCKAROO BLUE GRASS (“Jesse James Trilogy”). \nWhether you’ve followed him from the very beginning or are discovering his music for the first time\, this concert is a once-in-a-lifetime experience. It’s a celebration of music\, life\, and legacy\, honoring an artist whose career has touched the hearts of millions. \nGet your tickets today at OuthouseTickets.com (link at bottom of this page) or at Solano’s Boot and Western Wear\, 101 S. 2nd Street\, Raton\, NM  and help us celebrate 50 years of “Wildfire” with Michael Martin Murphey!
URL:https://shulertheater.com/event/michael-martin-murphey-in-concert-at-the-historic-shuler-theatre/
LOCATION:The Historic Shuler Theater\, 131 N 2nd St\, Raton\, NM\, 87740
CATEGORIES:Special Shuler event
END:VEVENT
BEGIN:VEVENT
DTSTART;TZID=America/Denver:20250831T190000
DTEND;TZID=America/Denver:20250831T220000
DTSTAMP:20260423T033211
CREATED:20250714T030401Z
LAST-MODIFIED:20250823T002932Z
UID:1385-1756666800-1756677600@shulertheater.com
SUMMARY:Gate City Music Fest 2025 - Gene Watson in Concert
DESCRIPTION:Join us in 2025 for an unforgettable evening of classic country as Gene Watson takes the stage at the Historic Shuler Theater in Raton\, New Mexico\,  headlining this year’s Gate City Music Festival on Sunday\, August 31 at 7 pm. \nWith a voice as rich and timeless as the music he sings\, Gene Watson has captivated audiences for over 50 years with hits like “Farewell Party\,” “Paper Rosie\,” “Love in the Hot Afternoon\,” and “Fourteen Carat Mind.” Now\, experience the magic live in one of the Southwest’s most iconic indoor venues.\n \nWith Special Guests:  Will & Crystal Yates & Zac Sukarno\nTickets $50 General Admission available at www.gatecitymusicfestival.com
URL:https://shulertheater.com/event/gate-city-music-fest-2025-gene-watson-in-concert/
LOCATION:The Historic Shuler Theater\, 131 N 2nd St\, Raton\, NM\, 87740
CATEGORIES:Special Shuler event
ATTACH;FMTTYPE=image/jpeg:https://shulertheater.com/wp-content/uploads/2025/07/IMG_8245.jpeg
END:VEVENT
BEGIN:VEVENT
DTSTART;TZID=America/Denver:20250809T190000
DTEND;TZID=America/Denver:20250809T220000
DTSTAMP:20260423T033211
CREATED:20250716T203730Z
LAST-MODIFIED:20250731T165946Z
UID:1410-1754766000-1754776800@shulertheater.com
SUMMARY:Royal Wade Kimes in Concert - “Lost in Time”
DESCRIPTION:Billy The Kid Traveling Wake presents\nRoyal Wade Kimes in Concert\n “Lost in Time”\nShuler Theatre\, 131 N. 2nd St.\nRaton\, NM \nSaturday\, August 9 @ 7 pm\n$20 General Admission\nLink to tickets at website below\n\nKimes is “The Gentleman Outlaw” and a Grammy Nominee\, a Gold and Platinum Writer and Recording Artist and 3 time winner of the Will Rogers Award. \n\n\n“Lost In Time\,”  is a dynamic live solo event. With music and western history beginning in 1864\, the audience leaves the Civil War behind and meets up with colorful cowboys\, outlaws\, lawmen\, and live mystic\, passionate romantic moments while unknowingly becoming “Lost In Time.”
URL:https://shulertheater.com/event/royal-wade-kimes-in-concert-lost-in-time/
LOCATION:The Historic Shuler Theater\, 131 N 2nd St\, Raton\, NM\, 87740
CATEGORIES:Special Shuler event
END:VEVENT
BEGIN:VEVENT
DTSTART;TZID=America/Denver:20250808T190000
DTEND;TZID=America/Denver:20250808T220000
DTSTAMP:20260423T033211
CREATED:20250716T212518Z
LAST-MODIFIED:20250731T170028Z
UID:1423-1754679600-1754690400@shulertheater.com
SUMMARY:Carin Mari in Concert
DESCRIPTION:Billy The Kid Traveling Wake presents\nCarin Mari in concert\nFriday\, August 8 @ 7 pm\nShuler Theater\, 131 N. 2nd\, Raton\, NM\n$20 General Admission\nLink to tickets at website below
URL:https://shulertheater.com/event/karin-mari-in-concert/
LOCATION:The Historic Shuler Theater\, 131 N 2nd St\, Raton\, NM\, 87740
CATEGORIES:Special Shuler event
END:VEVENT
BEGIN:VEVENT
DTSTART;TZID=America/Denver:20250113T173000
DTEND;TZID=America/Denver:20250113T193000
DTSTAMP:20260423T033211
CREATED:20250109T000436Z
LAST-MODIFIED:20250109T000455Z
UID:1367-1736789400-1736796600@shulertheater.com
SUMMARY:Governor’s Safety Town Hall Meeting @ the historic Shuler Theatre
DESCRIPTION:
URL:https://shulertheater.com/event/governors-safety-town-hall-meeting-the-historic-shuler-theatre/
LOCATION:The Historic Shuler Theater\, 131 N 2nd St\, Raton\, NM\, 87740
CATEGORIES:Special Shuler event
END:VEVENT
BEGIN:VEVENT
DTSTART;TZID=America/Denver:20241119T173000
DTEND;TZID=America/Denver:20241119T173000
DTSTAMP:20260423T033211
CREATED:20241108T024708Z
LAST-MODIFIED:20241118T144334Z
UID:1339-1732037400-1732037400@shulertheater.com
SUMMARY:CANCELLLED: Governor’s Public Safety Town Hall
DESCRIPTION:Governor Michelle Lujan Grisham is conducting a town hall in Raton which will bring together state and local government\, business members\, and constituents to engage in meaningful discussions related to public safety. \nDate:    Tuesday\, November 19\, 2024 \nTimes:   5:30-7:30 p.m. \nLocation: Shuler Theater\, 131 N 2nd St\, Raton\, NM 87740 \nWe highly value your presence and input at this event. Your perspective and insights will contribute to the success of the town hall meeting and help shape the future of our state.
URL:https://shulertheater.com/event/governors-public-safety-town-hall/
LOCATION:New Mexico
CATEGORIES:Special Shuler event
END:VEVENT
END:VCALENDAR