BEGIN:VCALENDAR
VERSION:2.0
PRODID:-//The Historic Shuler Theater - ECPv6.15.20//NONSGML v1.0//EN
CALSCALE:GREGORIAN
METHOD:PUBLISH
X-WR-CALNAME:The Historic Shuler Theater
X-ORIGINAL-URL:https://shulertheater.com
X-WR-CALDESC:Events for The Historic Shuler Theater
REFRESH-INTERVAL;VALUE=DURATION:PT1H
X-Robots-Tag:noindex
X-PUBLISHED-TTL:PT1H
BEGIN:VTIMEZONE
TZID:America/Denver
BEGIN:DAYLIGHT
TZOFFSETFROM:-0700
TZOFFSETTO:-0600
TZNAME:MDT
DTSTART:20240310T090000
END:DAYLIGHT
BEGIN:STANDARD
TZOFFSETFROM:-0600
TZOFFSETTO:-0700
TZNAME:MST
DTSTART:20241103T080000
END:STANDARD
BEGIN:DAYLIGHT
TZOFFSETFROM:-0700
TZOFFSETTO:-0600
TZNAME:MDT
DTSTART:20250309T090000
END:DAYLIGHT
BEGIN:STANDARD
TZOFFSETFROM:-0600
TZOFFSETTO:-0700
TZNAME:MST
DTSTART:20251102T080000
END:STANDARD
BEGIN:DAYLIGHT
TZOFFSETFROM:-0700
TZOFFSETTO:-0600
TZNAME:MDT
DTSTART:20260308T090000
END:DAYLIGHT
BEGIN:STANDARD
TZOFFSETFROM:-0600
TZOFFSETTO:-0700
TZNAME:MST
DTSTART:20261101T080000
END:STANDARD
END:VTIMEZONE
BEGIN:VEVENT
DTSTART;TZID=America/Denver:20250904T190000
DTEND;TZID=America/Denver:20250904T220000
DTSTAMP:20260423T145618
CREATED:20250822T221718Z
LAST-MODIFIED:20250823T002600Z
UID:1443-1757012400-1757023200@shulertheater.com
SUMMARY:Michael Martin Murphey in Concert at The Historic Shuler Theatre
DESCRIPTION:Join us at the The Shuler Theater on Thursday\, September 4th as Michael Martin Murphey takes the stage to celebrate a monumental milestone in his career—the 50th anniversary of his classic million-selling Pop-Country song\, “Wildfire”. \nJoining Michael will be Raton’s own Karla K Morton as they share some songs and poems from their recent collaborative work Santa Fe Trail: Chasing the Big West.   \n\nThe worldwide success of  “Wildfire”  and his 4th album “Blue Sky Night Thunder”  led Michael Martin Murphey on a journey as a singer-songwriter through multiple genres of music – pop\, country\, western\, bluegrass\, folk and jazz.  The Wildfire Anniversary concert will feature other selections from Blue Sky Night Thunder such as “Carolina in the Pines”  and “Desert Rat” and will also include songs from award-winning albums COWBOY SONGS (“Cowboy Logic”)\,  MICHAEL MARTIN MURPHEY (“What’s Forever For”) and  BUCKAROO BLUE GRASS (“Jesse James Trilogy”). \nWhether you’ve followed him from the very beginning or are discovering his music for the first time\, this concert is a once-in-a-lifetime experience. It’s a celebration of music\, life\, and legacy\, honoring an artist whose career has touched the hearts of millions. \nGet your tickets today at OuthouseTickets.com (link at bottom of this page) or at Solano’s Boot and Western Wear\, 101 S. 2nd Street\, Raton\, NM  and help us celebrate 50 years of “Wildfire” with Michael Martin Murphey!
URL:https://shulertheater.com/event/michael-martin-murphey-in-concert-at-the-historic-shuler-theatre/
LOCATION:The Historic Shuler Theater\, 131 N 2nd St\, Raton\, NM\, 87740
CATEGORIES:Special Shuler event
END:VEVENT
BEGIN:VEVENT
DTSTART;TZID=America/Denver:20250919T190000
DTEND;TZID=America/Denver:20250919T220000
DTSTAMP:20260423T145618
CREATED:20250714T220034Z
LAST-MODIFIED:20250913T010735Z
UID:1396-1758308400-1758319200@shulertheater.com
SUMMARY:“Yesterday - Live” at The Historic Shuler Theatre
DESCRIPTION:“Yesterday – A Tribute to the Beatles” has been endorsed by Sir Paul McCartney and has been performing the Beatles since 2000 and the show is coming to the Shuler Theater in Raton on Friday\, September 19 for a 7 pm show sponsored by the Shuler Restoration and the Whited Foundation. Tickets available online at EventBrite – link below. \nYesterday has been featured in Rolling Stone Magazine\, Showbiz Magazine\, on NBC\, CBS\, and ABC\, Dick Clark’s “Your Big Break” Ed McMahon’s “Star Search” and recently returned as highlight of the annual Joe Johnson’s Beatles Cruise aboard the Royal Caribbean Cruise lines. \nFounded by Don Bellezzo\, they show has not only toured extensively in the U.S.\, but internationally\, with seven tours of Japan\, dozens more to Canada\, the Philippines\, Hong Kong\, Bahamas\, and United States military bases and throughout the World\, having performed on five continents. \nInvited by the U.S. Postal Service to entertain at the unveiling of the “Yellow Submarine” Postage Stamp\, Yesterday performed at the prestigious Smithsonian Institute\, Washington\, D.C. \nJoining forces with Yesterday Productions\, ‘The British Are Coming!’ production was developed in the summer of 2010. Depicting the Beatles “Live” US performances\, The British Are Coming! performed for 3 years to nightly standing room only audiences by Yesterday’s show bands in Atlantic City at The Tropicana Hotel’s “Liverpool Club”\,  \n‘The British Are Coming!’ has had long term runs in Lake Tahoe\, Nevada at The Horizon Resort Casino’s Golden Cabaret Theater\, Reno’s Harrah’s Hotel and Casino and other nationwide venues. \nThe resident Beatles Show Band for “Legends in Concert\,” the world’s premier and longest running tribute show\, Yesterday performs in Las Vegas\, Nevada and Branson\, Missouri.  \nTickets for the Shuler show are $20 general admission and are available online at EventBrite or by calling 575-447-2207.
URL:https://shulertheater.com/event/yesterday-live-at-the-historic-shuler-theatre/
LOCATION:New Mexico
CATEGORIES:Special Shuler event
END:VEVENT
END:VCALENDAR