BEGIN:VCALENDAR
VERSION:2.0
PRODID:-//The Historic Shuler Theater - ECPv6.15.20//NONSGML v1.0//EN
CALSCALE:GREGORIAN
METHOD:PUBLISH
X-ORIGINAL-URL:https://shulertheater.com
X-WR-CALDESC:Events for The Historic Shuler Theater
REFRESH-INTERVAL;VALUE=DURATION:PT1H
X-Robots-Tag:noindex
X-PUBLISHED-TTL:PT1H
BEGIN:VTIMEZONE
TZID:America/Denver
BEGIN:DAYLIGHT
TZOFFSETFROM:-0700
TZOFFSETTO:-0600
TZNAME:MDT
DTSTART:20230312T090000
END:DAYLIGHT
BEGIN:STANDARD
TZOFFSETFROM:-0600
TZOFFSETTO:-0700
TZNAME:MST
DTSTART:20231105T080000
END:STANDARD
BEGIN:DAYLIGHT
TZOFFSETFROM:-0700
TZOFFSETTO:-0600
TZNAME:MDT
DTSTART:20240310T090000
END:DAYLIGHT
BEGIN:STANDARD
TZOFFSETFROM:-0600
TZOFFSETTO:-0700
TZNAME:MST
DTSTART:20241103T080000
END:STANDARD
BEGIN:DAYLIGHT
TZOFFSETFROM:-0700
TZOFFSETTO:-0600
TZNAME:MDT
DTSTART:20250309T090000
END:DAYLIGHT
BEGIN:STANDARD
TZOFFSETFROM:-0600
TZOFFSETTO:-0700
TZNAME:MST
DTSTART:20251102T080000
END:STANDARD
END:VTIMEZONE
BEGIN:VEVENT
DTSTART;VALUE=DATE:20241219
DTEND;VALUE=DATE:20241223
DTSTAMP:20260424T145738
CREATED:20241206T011052Z
LAST-MODIFIED:20241206T011052Z
UID:1357-1734566400-1734911999@shulertheater.com
SUMMARY:SFTSFPA presents “A Christmas Carol”
DESCRIPTION:Santa Fe Trail School for the Performing Arts presents our annual production of Charles Dickens’ classic tale: A Christmas Carol. Directed by Sarah Reid with music direction by Clint Henson; Thursday-Saturday\, December 19-21 at 7pm and Sunday matinee on December 22nd at 2pm.\n  \n$10 General Admission; ages 12 & under FREE
URL:https://shulertheater.com/event/sftsfpa-presents-a-christmas-carol/
LOCATION:New Mexico
CATEGORIES:Santa Fe Trail School for the Performing Arts Production
END:VEVENT
END:VCALENDAR