BEGIN:VCALENDAR
VERSION:2.0
PRODID:-//The Historic Shuler Theater - ECPv6.15.20//NONSGML v1.0//EN
CALSCALE:GREGORIAN
METHOD:PUBLISH
X-WR-CALNAME:The Historic Shuler Theater
X-ORIGINAL-URL:https://shulertheater.com
X-WR-CALDESC:Events for The Historic Shuler Theater
REFRESH-INTERVAL;VALUE=DURATION:PT1H
X-Robots-Tag:noindex
X-PUBLISHED-TTL:PT1H
BEGIN:VTIMEZONE
TZID:America/Denver
BEGIN:DAYLIGHT
TZOFFSETFROM:-0700
TZOFFSETTO:-0600
TZNAME:MDT
DTSTART:20230312T090000
END:DAYLIGHT
BEGIN:STANDARD
TZOFFSETFROM:-0600
TZOFFSETTO:-0700
TZNAME:MST
DTSTART:20231105T080000
END:STANDARD
BEGIN:DAYLIGHT
TZOFFSETFROM:-0700
TZOFFSETTO:-0600
TZNAME:MDT
DTSTART:20240310T090000
END:DAYLIGHT
BEGIN:STANDARD
TZOFFSETFROM:-0600
TZOFFSETTO:-0700
TZNAME:MST
DTSTART:20241103T080000
END:STANDARD
BEGIN:DAYLIGHT
TZOFFSETFROM:-0700
TZOFFSETTO:-0600
TZNAME:MDT
DTSTART:20250309T090000
END:DAYLIGHT
BEGIN:STANDARD
TZOFFSETFROM:-0600
TZOFFSETTO:-0700
TZNAME:MST
DTSTART:20251102T080000
END:STANDARD
END:VTIMEZONE
BEGIN:VEVENT
DTSTART;VALUE=DATE:20241111
DTEND;VALUE=DATE:20241113
DTSTAMP:20260424T163024
CREATED:20241030T232559Z
LAST-MODIFIED:20241109T022434Z
UID:1289-1731283200-1731455999@shulertheater.com
SUMMARY:Auditions for “A Christmas Carol” Moved to Nov 11 & 12
DESCRIPTION:CASTING CALL: A Christmas Carol\n\n\n\n\n\n\nBecause of inclement weather\, the Casting Call for Christmas Carol is rescheduled for Monday and Tuesday\, Nov. 11 and 12 @ 6pm in the Isabel Castillo Performing Arts Center (123 N. 2nd Street next door to the Shuler) This year’s production of Charles Dickens’ classic tale: A Christmas Carol\, is directed by Sarah Reid with Clint Henson providing musical direction.  We need actors\, carolers (singers)\, and backstage crew to bring this show to life; all ages are welcome and no experience required. \nPerformance dates are set for December 18-22 (Thursday-Saturday at 7pm and Sunday matinee at 2pm).  Rehearsal dates and times are still TBD at this time.\nDon’t be a Scrooge – unless you want the part!  Come on down and sign up to be a part of this Raton holiday tradition!
URL:https://shulertheater.com/event/auditions-for-a-christmas-carol/
LOCATION:New Mexico
CATEGORIES:Santa Fe Trail School for the Performing Arts Production
END:VEVENT
END:VCALENDAR