BEGIN:VCALENDAR
VERSION:2.0
PRODID:-//The Historic Shuler Theater - ECPv6.15.20//NONSGML v1.0//EN
CALSCALE:GREGORIAN
METHOD:PUBLISH
X-WR-CALNAME:The Historic Shuler Theater
X-ORIGINAL-URL:https://shulertheater.com
X-WR-CALDESC:Events for The Historic Shuler Theater
REFRESH-INTERVAL;VALUE=DURATION:PT1H
X-Robots-Tag:noindex
X-PUBLISHED-TTL:PT1H
BEGIN:VTIMEZONE
TZID:America/Denver
BEGIN:DAYLIGHT
TZOFFSETFROM:-0700
TZOFFSETTO:-0600
TZNAME:MDT
DTSTART:20250309T090000
END:DAYLIGHT
BEGIN:STANDARD
TZOFFSETFROM:-0600
TZOFFSETTO:-0700
TZNAME:MST
DTSTART:20251102T080000
END:STANDARD
BEGIN:DAYLIGHT
TZOFFSETFROM:-0700
TZOFFSETTO:-0600
TZNAME:MDT
DTSTART:20260308T090000
END:DAYLIGHT
BEGIN:STANDARD
TZOFFSETFROM:-0600
TZOFFSETTO:-0700
TZNAME:MST
DTSTART:20261101T080000
END:STANDARD
BEGIN:DAYLIGHT
TZOFFSETFROM:-0700
TZOFFSETTO:-0600
TZNAME:MDT
DTSTART:20270314T090000
END:DAYLIGHT
BEGIN:STANDARD
TZOFFSETFROM:-0600
TZOFFSETTO:-0700
TZNAME:MST
DTSTART:20271107T080000
END:STANDARD
END:VTIMEZONE
BEGIN:VEVENT
DTSTART;TZID=America/Denver:20260416T190000
DTEND;TZID=America/Denver:20260416T220000
DTSTAMP:20260423T102729
CREATED:20251027T210655Z
LAST-MODIFIED:20251027T210655Z
UID:1495-1776366000-1776376800@shulertheater.com
SUMMARY:Raton Arts & Humanities Council presents “The Sidekicks”
DESCRIPTION:
URL:https://shulertheater.com/event/raton-arts-humanities-council-presents-the-sidekicks/
LOCATION:The Historic Shuler Theater\, 131 N 2nd St\, Raton\, NM\, 87740
CATEGORIES:Raton Arts & Humanities Council Production
END:VEVENT
BEGIN:VEVENT
DTSTART;TZID=America/Denver:20260416T190000
DTEND;TZID=America/Denver:20260416T220000
DTSTAMP:20260423T102729
CREATED:20260406T004045Z
LAST-MODIFIED:20260406T004045Z
UID:1525-1776366000-1776376800@shulertheater.com
SUMMARY:The Historic Shuler Theater presents “The Sidekicks” in Concert
DESCRIPTION:  \n \nAdults $20; Seniors $15; Students $10. \nAdvanced tickets available \nOnline: RatonArts.org \nIn person: Old Pass Gallery \n145 S. 1st Street – Raton NM \nPhone 575-445-2052 \nPresented by the Raton Arts Council and the Whited Foundation \nThe Sidekicks is comprised of a high-energy group of professional musicians with combined decades of experience. The Sidekicks specialize in providing a show designed to pay tribute to the 70s and early 80s. The show features musical hits you love with pop-culture tidbits. The Sidekicks share a passion for keeping the music of yesterday alive for those who were there\, while introducing it to a new generation to enjoy. \nSample of music. \n\nAny Way You Want It – Journey\nRosanna – TOTO\nYou May Be Right – Billy Joel\nTake On Me – Aha\nCall Me – Blondie\nWe Built This City – Starship\nGet On Your Feet – Gloria Estefan\nI’m So Excited – The Pointer Sisters\nGhostbusters – Ray Parker Jr\nThe Power of Love – Huey Lewis & The News\nFlashdance…What A Feeling – Irene Cara\nEye of the Tiger – Survivor\nFootloose/Danger Zone – Kenny Loggins
URL:https://shulertheater.com/event/the-historic-shuler-theater-presents-the-sidekicks-in-concert/
LOCATION:The Historic Shuler Theater\, 131 N 2nd St\, Raton\, NM\, 87740
CATEGORIES:Raton Arts & Humanities Council Production
END:VEVENT
END:VCALENDAR