BEGIN:VCALENDAR
VERSION:2.0
PRODID:-//The Historic Shuler Theater - ECPv6.15.20//NONSGML v1.0//EN
CALSCALE:GREGORIAN
METHOD:PUBLISH
X-ORIGINAL-URL:https://shulertheater.com
X-WR-CALDESC:Events for The Historic Shuler Theater
REFRESH-INTERVAL;VALUE=DURATION:PT1H
X-Robots-Tag:noindex
X-PUBLISHED-TTL:PT1H
BEGIN:VTIMEZONE
TZID:America/Denver
BEGIN:DAYLIGHT
TZOFFSETFROM:-0700
TZOFFSETTO:-0600
TZNAME:MDT
DTSTART:20230312T090000
END:DAYLIGHT
BEGIN:STANDARD
TZOFFSETFROM:-0600
TZOFFSETTO:-0700
TZNAME:MST
DTSTART:20231105T080000
END:STANDARD
BEGIN:DAYLIGHT
TZOFFSETFROM:-0700
TZOFFSETTO:-0600
TZNAME:MDT
DTSTART:20240310T090000
END:DAYLIGHT
BEGIN:STANDARD
TZOFFSETFROM:-0600
TZOFFSETTO:-0700
TZNAME:MST
DTSTART:20241103T080000
END:STANDARD
BEGIN:DAYLIGHT
TZOFFSETFROM:-0700
TZOFFSETTO:-0600
TZNAME:MDT
DTSTART:20250309T090000
END:DAYLIGHT
BEGIN:STANDARD
TZOFFSETFROM:-0600
TZOFFSETTO:-0700
TZNAME:MST
DTSTART:20251102T080000
END:STANDARD
END:VTIMEZONE
BEGIN:VEVENT
DTSTART;TZID=America/Denver:20241115T190000
DTEND;TZID=America/Denver:20241115T190000
DTSTAMP:20260424T145701
CREATED:20241108T020052Z
LAST-MODIFIED:20241109T021913Z
UID:1326-1731697200-1731697200@shulertheater.com
SUMMARY:Jason Coleman in Tribute to Floyd Cramer\, Friday\, Nov. 15
DESCRIPTION:Raton Arts Council presents pianist Jason ‘Floyd’ Coleman\, Friday\, November 15 at 7 pm. \nColeman brings new life to the music made famous by his grandfather\, Floyd Cramer\, in a piano concert of country and pop classics. \nFrom humble beginnings on the Louisiana Hayride\, to a Hall of Fame recording career in Nashville\, to the iconic “Last Date” and signature ‘slip-note’ piano style\, Jason plays his way through the musical history of his grandfather to tell the Floyd Cramer story in a way no one else can. \nJason incorporates multimedia to share his own personal stories\, photos\, and films of growing up with his “Grandad\,” culminating in a series of video duets between Jason and Floyd that bridge the generations and will take your breath away! \nReserved seats: Adults $20; Seniors $15\, Students $10. Tickets available at the Old Pass Gallery 131 South 1st St\, 575-445-2052 or www.RatonArts.org
URL:https://shulertheater.com/event/jason-coleman-in-tribute-to-floyd-cramer-friday-nov-15/
LOCATION:New Mexico
CATEGORIES:Raton Arts & Humanities Council Production
ATTACH;FMTTYPE=image/jpeg:https://shulertheater.com/wp-content/uploads/2024/11/coleman1.jpg
END:VEVENT
END:VCALENDAR