BEGIN:VCALENDAR
VERSION:2.0
PRODID:-//The Historic Shuler Theater - ECPv6.15.20//NONSGML v1.0//EN
CALSCALE:GREGORIAN
METHOD:PUBLISH
X-WR-CALNAME:The Historic Shuler Theater
X-ORIGINAL-URL:https://shulertheater.com
X-WR-CALDESC:Events for The Historic Shuler Theater
REFRESH-INTERVAL;VALUE=DURATION:PT1H
X-Robots-Tag:noindex
X-PUBLISHED-TTL:PT1H
BEGIN:VTIMEZONE
TZID:America/Denver
BEGIN:DAYLIGHT
TZOFFSETFROM:-0700
TZOFFSETTO:-0600
TZNAME:MDT
DTSTART:20250309T090000
END:DAYLIGHT
BEGIN:STANDARD
TZOFFSETFROM:-0600
TZOFFSETTO:-0700
TZNAME:MST
DTSTART:20251102T080000
END:STANDARD
BEGIN:DAYLIGHT
TZOFFSETFROM:-0700
TZOFFSETTO:-0600
TZNAME:MDT
DTSTART:20260308T090000
END:DAYLIGHT
BEGIN:STANDARD
TZOFFSETFROM:-0600
TZOFFSETTO:-0700
TZNAME:MST
DTSTART:20261101T080000
END:STANDARD
BEGIN:DAYLIGHT
TZOFFSETFROM:-0700
TZOFFSETTO:-0600
TZNAME:MDT
DTSTART:20270314T090000
END:DAYLIGHT
BEGIN:STANDARD
TZOFFSETFROM:-0600
TZOFFSETTO:-0700
TZNAME:MST
DTSTART:20271107T080000
END:STANDARD
END:VTIMEZONE
BEGIN:VEVENT
DTSTART;TZID=America/Denver:20260213T190000
DTEND;TZID=America/Denver:20260213T220000
DTSTAMP:20260423T115056
CREATED:20251027T205618Z
LAST-MODIFIED:20260207T002753Z
UID:1489-1771009200-1771020000@shulertheater.com
SUMMARY:Raton Arts & Humanities Council presents “The Conjurors”
DESCRIPTION:  \n \nThe Conjurors\nTwo Magicians\n\nThe Conjurors invite guests to the world of the impossible – a place where limitations have yet to be created and amazing memories are waiting to be made. From captivating stories\, incredible magic\, large illusions\, and breathtaking demonstrations of mind control\, this show guarantees an adventure that will amaze all ages. \nMatthew Pomeroy \n\n\n“My earliest memories are being on and around a stage. I was mesmerized by every aspect and element of performing. Every show is a journey filled with magic\, wonder\, enchantment and story telling.” \n\nNatasha Lamb \n\n\n”Magic allows us to experience the impossible. Together we will create moments and memories that will be remembered long after the lights dim and the curtains close.” \nPresented by the Raton Arts Council and the Whited Foundation.  Reserved tickets available online at RatonArts.org\, or at the Old Pass Gallery\, 145 S. 1st St\, Raton\, or 575 445 2052. \nAdults $20\, Senior Citizens $15\, Students $10.
URL:https://shulertheater.com/event/raton-arts-humanities-council-presents-the-conjurors/
LOCATION:The Historic Shuler Theater\, 131 N 2nd St\, Raton\, NM\, 87740
CATEGORIES:Raton Arts & Humanities Council Production
END:VEVENT
END:VCALENDAR