BEGIN:VCALENDAR
VERSION:2.0
PRODID:-//The Historic Shuler Theater - ECPv6.15.20//NONSGML v1.0//EN
CALSCALE:GREGORIAN
METHOD:PUBLISH
X-ORIGINAL-URL:https://shulertheater.com
X-WR-CALDESC:Events for The Historic Shuler Theater
REFRESH-INTERVAL;VALUE=DURATION:PT1H
X-Robots-Tag:noindex
X-PUBLISHED-TTL:PT1H
BEGIN:VTIMEZONE
TZID:America/Denver
BEGIN:DAYLIGHT
TZOFFSETFROM:-0700
TZOFFSETTO:-0600
TZNAME:MDT
DTSTART:20240310T090000
END:DAYLIGHT
BEGIN:STANDARD
TZOFFSETFROM:-0600
TZOFFSETTO:-0700
TZNAME:MST
DTSTART:20241103T080000
END:STANDARD
BEGIN:DAYLIGHT
TZOFFSETFROM:-0700
TZOFFSETTO:-0600
TZNAME:MDT
DTSTART:20250309T090000
END:DAYLIGHT
BEGIN:STANDARD
TZOFFSETFROM:-0600
TZOFFSETTO:-0700
TZNAME:MST
DTSTART:20251102T080000
END:STANDARD
BEGIN:DAYLIGHT
TZOFFSETFROM:-0700
TZOFFSETTO:-0600
TZNAME:MDT
DTSTART:20260308T090000
END:DAYLIGHT
BEGIN:STANDARD
TZOFFSETFROM:-0600
TZOFFSETTO:-0700
TZNAME:MST
DTSTART:20261101T080000
END:STANDARD
END:VTIMEZONE
BEGIN:VEVENT
DTSTART;TZID=America/Denver:20250316T190000
DTEND;TZID=America/Denver:20250316T213000
DTSTAMP:20260424T064140
CREATED:20250312T045224Z
LAST-MODIFIED:20250312T045449Z
UID:1377-1742151600-1742160600@shulertheater.com
SUMMARY:C. Willie Myles
DESCRIPTION:C. Willi Myles\nComedian \nA veteran performer and an extremely funny guy\, C. Willi Myles has the gift of connecting people with each other through humor and storytelling that everyone can relate to. \nWilli tells extremely funny non-offensive stories and jokes and gives a unique spin to life’s everyday challenges by applying humor to them. \nPerforming across the U.S. and abroad\, his career highlights include several appearances on national television and at the legendary Apollo Theater in New York City. \nReferred to as “America’s Everyday Comedian\,” his hilarious down-to-earth performance will convince you that Willi is truly comedy at its best! \nTickets: Adults $20; Seniors $15\, Students $10 Available in advance at the Old Pass Gallery\, 145 S First St. 575-445-2052
URL:https://shulertheater.com/event/c-willie-myles/
LOCATION:New Mexico
CATEGORIES:Raton Arts & Humanities Council Production
ATTACH;FMTTYPE=image/jpeg:https://shulertheater.com/wp-content/uploads/2025/03/C-Willi-Myles.jpg
END:VEVENT
END:VCALENDAR