BEGIN:VCALENDAR
VERSION:2.0
PRODID:-//The Historic Shuler Theater - ECPv6.15.20//NONSGML v1.0//EN
CALSCALE:GREGORIAN
METHOD:PUBLISH
X-ORIGINAL-URL:https://shulertheater.com
X-WR-CALDESC:Events for The Historic Shuler Theater
REFRESH-INTERVAL;VALUE=DURATION:PT1H
X-Robots-Tag:noindex
X-PUBLISHED-TTL:PT1H
BEGIN:VTIMEZONE
TZID:America/Denver
BEGIN:DAYLIGHT
TZOFFSETFROM:-0700
TZOFFSETTO:-0600
TZNAME:MDT
DTSTART:20230312T090000
END:DAYLIGHT
BEGIN:STANDARD
TZOFFSETFROM:-0600
TZOFFSETTO:-0700
TZNAME:MST
DTSTART:20231105T080000
END:STANDARD
BEGIN:DAYLIGHT
TZOFFSETFROM:-0700
TZOFFSETTO:-0600
TZNAME:MDT
DTSTART:20240310T090000
END:DAYLIGHT
BEGIN:STANDARD
TZOFFSETFROM:-0600
TZOFFSETTO:-0700
TZNAME:MST
DTSTART:20241103T080000
END:STANDARD
BEGIN:DAYLIGHT
TZOFFSETFROM:-0700
TZOFFSETTO:-0600
TZNAME:MDT
DTSTART:20250309T090000
END:DAYLIGHT
BEGIN:STANDARD
TZOFFSETFROM:-0600
TZOFFSETTO:-0700
TZNAME:MST
DTSTART:20251102T080000
END:STANDARD
END:VTIMEZONE
BEGIN:VEVENT
DTSTART;TZID=America/Denver:20241206T193000
DTEND;TZID=America/Denver:20241206T220000
DTSTAMP:20260423T132410
CREATED:20241031T005142Z
LAST-MODIFIED:20241109T002651Z
UID:1292-1733513400-1733522400@shulertheater.com
SUMMARY:Michael Martin Murphey’s “Cowboy Christmas” Friday\, Dec. 6\, 2024
DESCRIPTION:Michael Martin Murphey’s Cowboy Christmas\, a magnificent spectacle that showcases his legendary “Rio Grande Band\,” mesmerizing lighting\, captivating videos\, and an artistic fusion of Western Art and masterful photographs. This extraordinary production takes you on a journey through the spirit of the Wild West\, immersing you in its rich heritage and evoking a sense of wonder and joy. \nDecember 6th  \nDoors: 6:30 PM       Showtime: 7:30 PM \n\n$50 – Seat in the Front 3 Rows  \n$40 – Seat 4th Row and Beyond\n\nTickets available at Solano’s and online at the Outhouse Tickets link below
URL:https://shulertheater.com/event/michael-martin-murpheys-cowboy-christmams/
LOCATION:The Historic Shuler Theater\, 131 N 2nd St\, Raton\, NM\, 87740
CATEGORIES:Music
END:VEVENT
BEGIN:VEVENT
DTSTART;TZID=America/Denver:20241026T190000
DTEND;TZID=America/Denver:20241026T213000
DTSTAMP:20260423T132410
CREATED:20241021T150903Z
LAST-MODIFIED:20241021T151344Z
UID:1280-1729969200-1729978200@shulertheater.com
SUMMARY:RAHC presents “Letters from Home”
DESCRIPTION:Letters from Home is a USO style show honoring artists like Frank Sinatra\, the Andrews Sisters\, Vera Lynn\, the Nicholas Brothers\, Creedence Clearwater Revival\, and many others. High-energy singing and tap dancing by founder Erinn Dearth and Dan Beckmann will leave you feeling great about being human. Though no two performances are the same\, each show will be funny\, historical\, and inspirational. \nDate: October 26\, 2024 at 7:00 pm \nTickets/Reserved Seating: Adults $20; Seniors $15; Students $10; concessions available. \nSeason Tickets: Adults $90; Seniors $70; Students $50. \nTickets available in advance at the Old Pass Gallery and available at the door. \n 
URL:https://shulertheater.com/event/rahc-presents-letter-from-home/
LOCATION:New Mexico
CATEGORIES:Music,Raton Arts & Humanities Council Production
END:VEVENT
BEGIN:VEVENT
DTSTART;TZID=America/Denver:20240417T190000
DTEND;TZID=America/Denver:20240417T190000
DTSTAMP:20260423T132410
CREATED:20240304T210731Z
LAST-MODIFIED:20240321T174441Z
UID:1221-1713380400-1713380400@shulertheater.com
SUMMARY:Queen Bees Band
DESCRIPTION:Queen Bees Band – Female Fueled Music for the Heart & Soul \nQueen Bees are swarming at the Shuler Theater on Wednesday\, April 17 @ 7 pm.  General admission tickets: \n\nAdults: $25\nSeniors: $20\nStudents: $10\n\nFrom Americana\, Country\, Folk\, and Bluegrass\, this magical\, all-female band from Western Colorado weaves together original stories and new interpretations of classic covers with stunning harmonies\, inspiring melodies\, and the perfect feminine touch. \nThe Shuler is their first stop heading East on their Texas Tour that includes appearances in Granbury\, Weatherford\, Ft. Worth\, Dallas\, Wichita Falls and the Red River Valley Opry House. \nhttps://www.eventbrite.com/e/queen-bees-band-tickets-867115334307 \nwww.TheQueenBeesBand.com
URL:https://shulertheater.com/event/queen-bees-band/
LOCATION:The Historic Shuler Theater\, 131 N 2nd St\, Raton\, NM\, 87740
CATEGORIES:Music
ATTACH;FMTTYPE=image/jpeg:https://shulertheater.com/wp-content/uploads/2024/02/SHULER-THEATER-Made-with-PosterMyWall-1-1.jpg
END:VEVENT
END:VCALENDAR